{"text_format":"3","workbook":"xlsx","n_sheets":1,"sheets":["★최종도체성적_홈페이지"],"not_rendered":{"images":1,"external_links":1,"defined_names":3},"read":"whole","date_system":"1900"}

{"sheet":"★최종도체성적_홈페이지","index":0,"n_rows":267,"n_cols":15,"rows_kept":267,"merged":[[0,0,0,14]]}
["     제27회 전국한우능력평가대회 도체성적(지역순)"]
["도축\n번호","시도","시군","출품자","개체번호","생체중","도체중","등심\n단면적","등지방\n두께","육량\n지수","근내\n지방","최종\n등급","훈격","단가","최종가격"]
[218,"충북","음성군","홍창영","002175030011",1006,620,145,10,63.16,93,"1++A","대 통 령 상",{"$f":"VLOOKUP(E3,[1]경매자료!A:O,15,0)","v":{"v":150000,"d":"150,000"}},{"$f":"G3*N3","v":{"v":93000000,"d":"93,000,000"}}]
[68,"전남","신안군","이평관","002171351742",949,636,159,9,63.82,93,"1++A","국 무 총 리 상",{"$f":"VLOOKUP(E4,[1]경매자료!A:O,15,0)","v":{"v":60000,"d":"60,000"}},{"$f":"G4*N4","v":{"v":38160000,"d":"38,160,000"}}]
[193,"경남","밀양시","강동훈","002173366634",853,507,145,8,65.08,93,"1++A","농림축산식품부장관상",{"$f":"VLOOKUP(E5,[1]경매자료!A:O,15,0)","v":{"v":50023,"d":"50,023"}},{"v":25361661,"d":"25,361,661"}]
[167,"경기","양주시","김정윤1","002173559192",860,538,140,7,64.57,93,"1++A","농촌진흥청장상",{"$f":"VLOOKUP(E6,[1]경매자료!A:O,15,0)","v":{"v":40549,"d":"40,549"}},{"v":21815362,"d":"21,815,362"}]
[27,"경북","경주시","오흥석","002174266726",818,523,147,5,65.65,93,"1++A","농협중앙회장상",{"$f":"VLOOKUP(E7,[1]경매자료!A:O,15,0)","v":{"v":40613,"d":"40,613"}},{"v":21240599,"d":"21,240,599"}]
[90,"경남","거창군","이남권","002173450772",1031,650,160,14,62.75,93,"1++A","축산물품질평가원장상",{"$f":"VLOOKUP(E8,[1]경매자료!A:O,15,0)","v":{"v":36849,"d":"36,849"}},{"v":23951850,"d":"23,951,850"}]
[200,"경남","하동군","강윤주","002176800701",1015,673,168,14,62.88,93,"1++A","한우자조금관리위원장상",{"$f":"VLOOKUP(E9,[1]경매자료!A:O,15,0)","v":{"v":37833,"d":"37,833"}},{"v":25461609,"d":"25,461,609"}]
[88,"경남","김해시","박민규","002173756956",977,600,149,10,63.56,93,"1++A","축산관련단체협의회장",{"$f":"VLOOKUP(E10,[1]경매자료!A:O,15,0)","v":{"v":36988,"d":"36,988"}},{"v":22192800,"d":"22,192,800"}]
[130,"강원","춘천시","서육수","002175122617",914,555,151,11,63.99,93,"1++A","충북농협중도매인조합장상",{"$f":"VLOOKUP(E11,[1]경매자료!A:O,15,0)","v":{"v":38955,"d":"38,955"}},{"v":21620025,"d":"21,620,025"}]
[180,"울산","울주군","이규천","002174576341",926,573,137,9,63.51,93,"1++A","전국한우협회장상",{"$f":"VLOOKUP(E12,[1]경매자료!A:O,15,0)","v":{"v":36988,"d":"36,988"}},{"v":21194124,"d":"21,194,124"}]
[42,"전남","영암군","조형일","002177990006",819,517,146,10,64.49,93,"1++A","한국종축개량협회장상",{"$f":"VLOOKUP(E13,[1]경매자료!A:O,15,0)","v":{"v":33999,"d":"33,999"}},{"v":17577483,"d":"17,577,483"}]
[133,"경남","합천군","합천축협","002171230404",855,534,142,13,63.32,93,"1++A","대회추진협의회장상",{"$f":"VLOOKUP(E14,[1]경매자료!A:O,15,0)","v":{"v":31899,"d":"31,899"}},{"v":17034066,"d":"17,034,066"}]
[171,"경기","가평군","강현칠","002174908017",789,489,105,17,60.76,93,"1++B",null,{"$f":"VLOOKUP(E15,[1]경매자료!A:O,15,0)","v":{"v":24459,"d":"24,459"}},{"v":11960451,"d":"11,960,451"}]
[169,"경기","가평군","김범찬","002171699230",850,489,113,10,63.02,65,"1+A",null,{"$f":"VLOOKUP(E16,[1]경매자료!A:O,15,0)","v":{"v":18669,"d":"18,669"}},{"v":9129141,"d":"9,129,141"}]
[142,"경기","가평군","김유화","002171701536",821,503,109,14,61.62,82,"1++B",null,{"$f":"VLOOKUP(E17,[1]경매자료!A:O,15,0)","v":{"v":19050,"d":"19,050"}},{"v":9582150,"d":"9,582,150"}]
[145,"경기","가평군","김진천","002165741903",850,468,121,8,64.32,52,"1A",null,{"$f":"VLOOKUP(E18,[1]경매자료!A:O,15,0)","v":{"v":17879,"d":"17,879"}},{"v":8367372,"d":"8,367,372"}]
[144,"경기","가평군","이대훈","002171601324",816,505,121,22,60.29,65,"1+C",null,{"$f":"VLOOKUP(E19,[1]경매자료!A:O,15,0)","v":{"v":17812,"d":"17,812"}},{"v":8995060,"d":"8,995,060"}]
[140,"경기","가평군","정웅진","002169866226",857,509,121,12,62.73,64,"1+A",null,{"$f":"VLOOKUP(E20,[1]경매자료!A:O,15,0)","v":{"v":18579,"d":"18,579"}},{"v":9456711,"d":"9,456,711"}]
[141,"경기","가평군","정원진","002169865713",899,561,117,12,61.97,71,"1++B",null,{"$f":"VLOOKUP(E21,[1]경매자료!A:O,15,0)","v":{"v":18799,"d":"18,799"}},{"v":10546239,"d":"10,546,239"}]
[170,"경기","가평군","한제국","002174909036",873,550,106,11,61.74,72,"1++B",null,{"$f":"VLOOKUP(E22,[1]경매자료!A:O,15,0)","v":{"v":18789,"d":"18,789"}},{"v":10333950,"d":"10,333,950"}]
[143,"경기","가평군","현정호","002174219309",846,512,126,16,61.99,93,"1++B",null,{"$f":"VLOOKUP(E23,[1]경매자료!A:O,15,0)","v":{"v":25495,"d":"25,495"}},{"v":13053440,"d":"13,053,440"}]
[80,"경기","동두천시","이은석","002173564890",778,454,96,10,62.44,92,"1++B",null,{"$f":"VLOOKUP(E24,[1]경매자료!A:O,15,0)","v":{"v":23899,"d":"23,899"}},{"v":10850146,"d":"10,850,146"}]
[16,"경기","안산시","이준희","002169005718",896,534,98,10,61.7,51,"1B",null,{"$f":"VLOOKUP(E25,[1]경매자료!A:O,15,0)","v":{"v":16969,"d":"16,969"}},{"v":9061446,"d":"9,061,446"}]
[252,"경기","안성시","곽민준","002171953938",883,547,130,12,62.78,93,"1++A",null,{"$f":"VLOOKUP(E26,[1]경매자료!A:O,15,0)","v":{"v":25279,"d":"25,279"}},{"v":13827613,"d":"13,827,613"}]
[244,"경기","안성시","박상승","002165244241",737,435,94,10,62.56,93,"1++A",null,{"$f":"VLOOKUP(E27,[1]경매자료!A:O,15,0)","v":{"v":25601,"d":"25,601"}},{"v":11136435,"d":"11,136,435"}]
[236,"경기","안성시","우택균","002173836697",920,567,109,14,61.08,43,"1B",null,{"$f":"VLOOKUP(E28,[1]경매자료!A:O,15,0)","v":{"v":17000,"d":"17,000"}},{"v":9639000,"d":"9,639,000"}]
[232,"경기","안성시","최춘호","002173836953",942,593,106,11,61.38,91,"1++B",null,{"$f":"VLOOKUP(E29,[1]경매자료!A:O,15,0)","v":{"v":23493,"d":"23,493"}},{"v":13931349,"d":"13,931,349"}]
[233,"경기","안성시","홍길선","002174863788",901,547,132,11,63.11,72,"1++A",null,{"$f":"VLOOKUP(E30,[1]경매자료!A:O,15,0)","v":{"v":17865,"d":"17,865"}},{"v":9772155,"d":"9,772,155"}]
[168,"경기","양주시","송근홍","002175538628",931,545,132,12,62.9,83,"1++A",null,{"$f":"VLOOKUP(E31,[1]경매자료!A:O,15,0)","v":{"v":19419,"d":"19,419"}},{"v":10583355,"d":"10,583,355"}]
[194,"경기","양평군","김창섭","002175930631",776,488,97,11,61.85,43,"1B",null,{"$f":"VLOOKUP(E32,[1]경매자료!A:O,15,0)","v":{"v":17139,"d":"17,139"}},{"v":8363832,"d":"8,363,832"}]
[225,"경기","양평군","남승우","002173843647",788,462,100,10,62.59,83,"1++A",null,{"$f":"VLOOKUP(E33,[1]경매자료!A:O,15,0)","v":{"v":19499,"d":"19,499"}},{"v":9008538,"d":"9,008,538"}]
[206,"경기","양평군","류재원","002173844422",849,538,96,12,61.09,63,"1+B",null,{"$f":"VLOOKUP(E34,[1]경매자료!A:O,15,0)","v":{"v":17559,"d":"17,559"}},{"v":9446742,"d":"9,446,742"}]
[195,"경기","양평군","민영주","002177326400",723,424,93,10,62.64,61,"1+A",null,{"$f":"VLOOKUP(E35,[1]경매자료!A:O,15,0)","v":{"v":17998,"d":"17,998"}},{"v":7631152,"d":"7,631,152"}]
[196,"경기","양평군","박재덕","002175380033",848,512,113,13,62,83,"1++B",null,{"$f":"VLOOKUP(E36,[1]경매자료!A:O,15,0)","v":{"v":18820,"d":"18,820"}},{"v":9635840,"d":"9,635,840"}]
[227,"경기","양평군","신흥진","002175928892",894,538,119,11,62.53,92,"1++A",null,{"$f":"VLOOKUP(E37,[1]경매자료!A:O,15,0)","v":{"v":24366,"d":"24,366"}},{"v":13108908,"d":"13,108,908"}]
[205,"경기","양평군","윤제길","002173844705",750,456,94,9,62.56,65,"1+A",null,{"$f":"VLOOKUP(E38,[1]경매자료!A:O,15,0)","v":{"v":18399,"d":"18,399"}},{"v":8389944,"d":"8,389,944"}]
[228,"경기","양평군","임성훈","002175381817",1038,633,143,11,62.74,91,"1++A",null,{"$f":"VLOOKUP(E39,[1]경매자료!A:O,15,0)","v":{"v":23115,"d":"23,115"}},{"v":14631795,"d":"14,631,795"}]
[226,"경기","양평군","황기동","002173845435",853,522,129,12,63.01,82,"1++A",null,{"$f":"VLOOKUP(E40,[1]경매자료!A:O,15,0)","v":{"v":19236,"d":"19,236"}},{"v":10041192,"d":"10,041,192"}]
[220,"경기","이천시","공준식","002171518161",854,519,112,9,62.84,81,"1++A",null,{"$f":"VLOOKUP(E41,[1]경매자료!A:O,15,0)","v":{"v":19910,"d":"19,910"}},{"v":10333290,"d":"10,333,290"}]
[234,"경기","이천시","임관빈","002174766318",842,517,128,13,62.77,93,"1++A",null,{"$f":"VLOOKUP(E42,[1]경매자료!A:O,15,0)","v":{"v":25278,"d":"25,278"}},{"v":13068726,"d":"13,068,726"}]
[219,"경기","이천시","정상현","002174770276",916,529,117,14,61.81,93,"1++B",null,{"$f":"VLOOKUP(E43,[1]경매자료!A:O,15,0)","v":{"v":23749,"d":"23,749"}},{"v":12563221,"d":"12,563,221"}]
[151,"경기","파주시","김영민","002177074478",845,518,132,10,63.71,93,"1++A",null,{"$f":"VLOOKUP(E44,[1]경매자료!A:O,15,0)","v":{"v":25899,"d":"25,899"}},{"v":13415682,"d":"13,415,682"}]
[241,"경기","평택시","오학영","002175330382",838,521,109,10,62.42,91,"1++B",null,{"$f":"VLOOKUP(E45,[1]경매자료!A:O,15,0)","v":{"v":22800,"d":"22,800"}},{"v":11878800,"d":"11,878,800"}]
[242,"경기","평택시","이강문","002177486050",718,414,84,9,62.47,62,"1+B",null,{"$f":"VLOOKUP(E46,[1]경매자료!A:O,15,0)","v":{"v":17199,"d":"17,199"}},{"v":7120386,"d":"7,120,386"}]
[238,"경기","평택시","이구영","002172446680",908,554,96,12,60.97,83,"1++B",null,{"$f":"VLOOKUP(E47,[1]경매자료!A:O,15,0)","v":{"v":18699,"d":"18,699"}},{"v":10359246,"d":"10,359,246"}]
[239,"경기","평택시","전성중","002175330124",944,592,113,14,61.09,92,"1++B",null,{"$f":"VLOOKUP(E48,[1]경매자료!A:O,15,0)","v":{"v":23999,"d":"23,999"}},{"v":14207408,"d":"14,207,408"}]
[243,"경기","평택시","조학구","002176105879",863,532,106,8,62.61,91,"1++A",null,{"$f":"VLOOKUP(E49,[1]경매자료!A:O,15,0)","v":{"v":24577,"d":"24,577"}},{"v":13074964,"d":"13,074,964"}]
[240,"경기","평택시","허도회","002173655851",889,557,120,9,62.84,92,"1++A",null,{"$f":"VLOOKUP(E50,[1]경매자료!A:O,15,0)","v":{"v":24900,"d":"24,900"}},{"v":13869300,"d":"13,869,300"}]
[146,"경기","포천시","김영석1","002176155121",906,584,145,18,61.84,92,"1++B",null,{"$f":"VLOOKUP(E51,[1]경매자료!A:O,15,0)","v":{"v":23999,"d":"23,999"}},{"v":14015416,"d":"14,015,416"}]
[149,"경기","포천시","박봉선","002176157828",820,480,111,13,62.23,52,"1B",null,{"$f":"VLOOKUP(E52,[1]경매자료!A:O,15,0)","v":{"v":17003,"d":"17,003"}},{"v":8161440,"d":"8,161,440"}]
[147,"경기","포천시","신연순","002176158988",803,482,121,11,63.32,62,"1+A",null,{"$f":"VLOOKUP(E53,[1]경매자료!A:O,15,0)","v":{"v":18499,"d":"18,499"}},{"v":8916518,"d":"8,916,518"}]
[150,"경기","포천시","이기갑","002169609136",823,497,118,12,62.7,43,"1A",null,{"$f":"VLOOKUP(E54,[1]경매자료!A:O,15,0)","v":{"v":17929,"d":"17,929"}},{"v":8910713,"d":"8,910,713"}]
[148,"경기","포천시","정낙용","002176155148",842,507,110,19,60.41,52,"1B",null,{"$f":"VLOOKUP(E55,[1]경매자료!A:O,15,0)","v":{"v":17005,"d":"17,005"}},{"v":8621535,"d":"8,621,535"}]
[253,"경기","화성시","강창섭","002175512330",913,528,106,6,63.13,93,"1++A",null,{"$f":"VLOOKUP(E56,[1]경매자료!A:O,15,0)","v":{"v":24279,"d":"24,279"}},{"v":12819312,"d":"12,819,312"}]
[235,"경기","화성시","박광순","002174523096",1097,671,131,7,62.64,91,"1++A",null,{"$f":"VLOOKUP(E57,[1]경매자료!A:O,15,0)","v":{"v":23903,"d":"23,903"}},{"v":16038913,"d":"16,038,913"}]
[139,"강원","고성군","장정권","002175206642",899,533,118,15,61.59,82,"1++B",null,{"$f":"VLOOKUP(E58,[1]경매자료!A:O,15,0)","v":{"v":19458,"d":"19,458"}},{"v":10371114,"d":"10,371,114"}]
[188,"강원","속초시","이창우","002174514700",918,560,140,15,62.47,92,"1++B",null,{"$f":"VLOOKUP(E59,[1]경매자료!A:O,15,0)","v":{"v":23118,"d":"23,118"}},{"v":12946080,"d":"12,946,080"}]
[187,"강원","양양군","김홍열","002174513080",1002,611,127,13,61.8,92,"1++B",null,{"$f":"VLOOKUP(E60,[1]경매자료!A:O,15,0)","v":{"v":23909,"d":"23,909"}},{"v":14608399,"d":"14,608,399"}]
[185,"강원","양양군","박주욱","002174513846",700,427,113,15,62.46,92,"1++B",null,{"$f":"VLOOKUP(E61,[1]경매자료!A:O,15,0)","v":{"v":26812,"d":"26,812"}},{"v":11448724,"d":"11,448,724"}]
[186,"강원","양양군","최양순","002174515411",866,534,114,12,62.08,92,"1++B",null,{"$f":"VLOOKUP(E62,[1]경매자료!A:O,15,0)","v":{"v":23089,"d":"23,089"}},{"v":12329526,"d":"12,329,526"}]
[189,"강원","영월군","엄복섭","002172277566",838,513,118,10,63,93,"1++A",null,{"$f":"VLOOKUP(E63,[1]경매자료!A:O,15,0)","v":{"v":25899,"d":"25,899"}},{"v":13286187,"d":"13,286,187"}]
[190,"강원","영월군","유화균","002172279326",834,502,108,12,62.08,72,"1++B",null,{"$f":"VLOOKUP(E64,[1]경매자료!A:O,15,0)","v":{"v":18900,"d":"18,900"}},{"v":9487800,"d":"9,487,800"}]
[191,"강원","영월군","허대석","002172278760",894,528,112,9,62.74,81,"1++A",null,{"$f":"VLOOKUP(E65,[1]경매자료!A:O,15,0)","v":{"v":18778,"d":"18,778"}},{"v":9914784,"d":"9,914,784"}]
[264,"강원","원주시","김흥수","002176752718",856,527,110,9,62.64,83,"1++A",null,{"$f":"VLOOKUP(E66,[1]경매자료!A:O,15,0)","v":{"v":20401,"d":"20,401"}},{"v":10751327,"d":"10,751,327"}]
[265,"강원","원주시","원종현","002171649595",862,506,97,16,60.43,93,"1++B",null,{"$f":"VLOOKUP(E67,[1]경매자료!A:O,15,0)","v":{"v":23358,"d":"23,358"}},{"v":11819148,"d":"11,819,148"}]
[263,"강원","원주시","이희규","002171652806",904,533,122,9,63.21,81,"1++A",null,{"$f":"VLOOKUP(E68,[1]경매자료!A:O,15,0)","v":{"v":20199,"d":"20,199"}},{"$f":"G68*N68","v":{"v":10766067,"d":"10,766,067"}}]
[18,"강원","정선군","송일호","002174700133",825,480,114,8,63.71,64,"1+A",null,{"$f":"VLOOKUP(E69,[1]경매자료!A:O,15,0)","v":{"v":18634,"d":"18,634"}},{"v":8944320,"d":"8,944,320"}]
[17,"강원","정선군","전장용","002174892241",898,560,98,14,60.57,64,"1+B",null,{"$f":"VLOOKUP(E70,[1]경매자료!A:O,15,0)","v":{"v":17255,"d":"17,255"}},{"v":9662800,"d":"9,662,800"}]
[79,"강원","철원군","김병옥","002175251908",820,539,113,23,59.42,93,"1++C",null,{"$f":"VLOOKUP(E71,[1]경매자료!A:O,15,0)","v":{"v":22999,"d":"22,999"}},{"v":12396461,"d":"12,396,461"}]
[78,"강원","철원군","허진행","002175254336",1041,628,125,13,61.58,91,"1++B",null,{"$f":"VLOOKUP(E72,[1]경매자료!A:O,15,0)","v":{"v":23888,"d":"23,888"}},{"v":15001664,"d":"15,001,664"}]
[174,"강원","춘천시","김봉림","002175121614",830,507,131,6,64.79,93,"1++A",null,{"$f":"VLOOKUP(E73,[1]경매자료!A:O,15,0)","v":{"v":28223,"d":"28,223"}},{"v":14309061,"d":"14,309,061"}]
[129,"강원","춘천시","남궁관","002176072129",843,518,110,13,61.78,64,"1+B",null,{"$f":"VLOOKUP(E74,[1]경매자료!A:O,15,0)","v":{"v":17699,"d":"17,699"}},{"v":9168082,"d":"9,168,082"}]
[131,"강원","춘천시","신길선","002175124569",775,468,110,10,63.12,92,"1++A",null,{"$f":"VLOOKUP(E75,[1]경매자료!A:O,15,0)","v":{"v":25862,"d":"25,862"}},{"v":12103416,"d":"12,103,416"}]
[173,"강원","춘천시","우문수","002177434135",1001,626,130,7,63.02,91,"1++A",null,{"$f":"VLOOKUP(E76,[1]경매자료!A:O,15,0)","v":{"v":23120,"d":"23,120"}},{"v":14473120,"d":"14,473,120"}]
[172,"강원","춘천시","이재황","002175124690",789,486,123,14,62.61,93,"1++A",null,{"$f":"VLOOKUP(E77,[1]경매자료!A:O,15,0)","v":{"v":24799,"d":"24,799"}},{"v":12052314,"d":"12,052,314"}]
[132,"강원","춘천시","장백호","002176059033",876,522,118,13,62.17,65,"1+B",null,{"$f":"VLOOKUP(E78,[1]경매자료!A:O,15,0)","v":{"v":17799,"d":"17,799"}},{"v":9291078,"d":"9,291,078"}]
[175,"강원","춘천시","조수한","002175123120",923,586,131,12,62.43,93,"1++B",null,{"$f":"VLOOKUP(E79,[1]경매자료!A:O,15,0)","v":{"v":26439,"d":"26,439"}},{"v":15493254,"d":"15,493,254"}]
[19,"강원","평창군","평창영월정선축협","002176092252",768,477,127,11,63.74,83,"1++A",null,{"$f":"VLOOKUP(E80,[1]경매자료!A:O,15,0)","v":{"v":20829,"d":"20,829"}},{"v":9935433,"d":"9,935,433"}]
[208,"강원","홍천군","김영진","002178591549",831,493,117,11,62.94,93,"1++A",null,{"$f":"VLOOKUP(E81,[1]경매자료!A:O,15,0)","v":{"v":26879,"d":"26,879"}},{"v":13251347,"d":"13,251,347"}]
[217,"강원","홍천군","박시덕","002175667966",975,604,127,13,61.86,91,"1++B",null,{"$f":"VLOOKUP(E82,[1]경매자료!A:O,15,0)","v":{"v":22888,"d":"22,888"}},{"v":13824352,"d":"13,824,352"}]
[209,"강원","홍천군","박용길","002175667020",774,476,107,11,62.57,91,"1++A",null,{"$f":"VLOOKUP(E83,[1]경매자료!A:O,15,0)","v":{"v":23333,"d":"23,333"}},{"v":11106508,"d":"11,106,508"}]
[210,"강원","홍천군","박재학","002175667095",889,514,116,11,62.64,92,"1++A",null,{"$f":"VLOOKUP(E84,[1]경매자료!A:O,15,0)","v":{"v":22799,"d":"22,799"}},{"v":11718686,"d":"11,718,686"}]
[216,"강원","홍천군","박진근","002175674522",858,522,129,7,64.21,93,"1++A",null,{"$f":"VLOOKUP(E85,[1]경매자료!A:O,15,0)","v":{"v":25822,"d":"25,822"}},{"v":13479084,"d":"13,479,084"}]
[211,"강원","홍천군","사동진","002177106866",813,483,96,11,61.84,83,"1++B",null,{"$f":"VLOOKUP(E86,[1]경매자료!A:O,15,0)","v":{"v":18610,"d":"18,610"}},{"v":8988630,"d":"8,988,630"}]
[215,"강원","홍천군","이진영","002173017686",833,531,126,18,61.33,93,"1++B",null,{"$f":"VLOOKUP(E87,[1]경매자료!A:O,15,0)","v":{"v":25999,"d":"25,999"}},{"v":13805469,"d":"13,805,469"}]
[214,"강원","홍천군","임홍원","002177111575",812,484,117,10,63.32,81,"1++A",null,{"$f":"VLOOKUP(E88,[1]경매자료!A:O,15,0)","v":{"v":20479,"d":"20,479"}},{"v":9911836,"d":"9,911,836"}]
[213,"강원","홍천군","조남웅","002175306228",891,571,89,26,57.43,61,"1+C",null,{"$f":"VLOOKUP(E89,[1]경매자료!A:O,15,0)","v":{"v":14851,"d":"14,851"}},{"v":8479921,"d":"8,479,921"}]
[212,"강원","홍천군","홍천축협","002175666813",769,467,117,11,63.29,91,"1++A",null,{"$f":"VLOOKUP(E90,[1]경매자료!A:O,15,0)","v":{"v":23999,"d":"23,999"}},{"v":11207533,"d":"11,207,533"}]
[128,"강원","화천군","서민수","002175115865",876,544,138,15,62.54,71,"1++A",null,{"$f":"VLOOKUP(E91,[1]경매자료!A:O,15,0)","v":{"v":19204,"d":"19,204"}},{"v":10446976,"d":"10,446,976"}]
[6,"강원","횡성군","김용래","002176432851",787,470,82,12,60.87,65,"1+B",null,{"$f":"VLOOKUP(E92,[1]경매자료!A:O,15,0)","v":{"v":17359,"d":"17,359"}},{"v":8158730,"d":"8,158,730"}]
[5,"강원","횡성군","최철희","002176429052",892,563,103,13,61.03,64,"1+B",null,{"$f":"VLOOKUP(E93,[1]경매자료!A:O,15,0)","v":{"v":17555,"d":"17,555"}},{"v":9883465,"d":"9,883,465"}]
[4,"강원","횡성군","한봉희","002174754298",948,566,115,7,62.93,91,"1++A",null,{"$f":"VLOOKUP(E94,[1]경매자료!A:O,15,0)","v":{"v":25699,"d":"25,699"}},{"v":14545634,"d":"14,545,634"}]
[3,"강원","횡성군","횡성축협","002174755508",859,503,113,15,61.6,82,"1++B",null,{"$f":"VLOOKUP(E95,[1]경매자료!A:O,15,0)","v":{"v":18800,"d":"18,800"}},{"v":9456400,"d":"9,456,400"}]
[256,"충북","괴산군","김용권","002176875884",693,412,96,11,62.71,51,"1A",null,{"$f":"VLOOKUP(E96,[1]경매자료!A:O,15,0)","v":{"v":17429,"d":"17,429"}},{"v":7180748,"d":"7,180,748"}]
[257,"충북","괴산군","김홍기","002176876238",787,471,107,5,64.22,81,"1++A",null,{"$f":"VLOOKUP(E97,[1]경매자료!A:O,15,0)","v":{"v":19857,"d":"19,857"}},{"v":9352647,"d":"9,352,647"}]
[254,"충북","괴산군","지윤광","002173310591",888,542,106,26,58.35,81,"1++C",null,{"$f":"VLOOKUP(E98,[1]경매자료!A:O,15,0)","v":{"v":18258,"d":"18,258"}},{"v":9895836,"d":"9,895,836"}]
[138,"충북","보은군","김애순","002179505878",984,578,127,12,62.31,64,"1+B",null,{"$f":"VLOOKUP(E99,[1]경매자료!A:O,15,0)","v":{"v":17334,"d":"17,334"}},{"v":10019052,"d":"10,019,052"}]
[197,"충북","옥천군","민경열","002175359690",835,502,97,10,61.95,65,"1+B",null,{"$f":"VLOOKUP(E100,[1]경매자료!A:O,15,0)","v":{"v":17451,"d":"17,451"}},{"v":8760402,"d":"8,760,402"}]
[255,"충북","증평군","한정만","002177619129",826,494,102,13,61.56,65,"1+B",null,{"$f":"VLOOKUP(E101,[1]경매자료!A:O,15,0)","v":{"v":17710,"d":"17,710"}},{"v":8748740,"d":"8,748,740"}]
[245,"충남","공주시","유기남","002175887436",877,553,117,9,62.73,91,"1++A",null,{"$f":"VLOOKUP(E102,[1]경매자료!A:O,15,0)","v":{"v":23456,"d":"23,456"}},{"v":12971168,"d":"12,971,168"}]
[247,"충남","공주시","유봉기","002175892482",957,603,128,10,62.54,92,"1++A",null,{"$f":"VLOOKUP(E103,[1]경매자료!A:O,15,0)","v":{"v":25988,"d":"25,988"}},{"v":15670764,"d":"15,670,764"}]
[246,"충남","공주시","윤용국","002177202464",854,514,102,9,62.35,64,"1+B",null,{"$f":"VLOOKUP(E104,[1]경매자료!A:O,15,0)","v":{"v":17740,"d":"17,740"}},{"v":9118360,"d":"9,118,360"}]
[248,"충남","공주시","편용범","002178328596",779,465,118,11,63.37,93,"1++A",null,{"$f":"VLOOKUP(E105,[1]경매자료!A:O,15,0)","v":{"v":24579,"d":"24,579"}},{"v":11429235,"d":"11,429,235"}]
[199,"충남","보령시","유병란","002176230231",775,467,117,12,63.02,92,"1++A",null,{"$f":"VLOOKUP(E106,[1]경매자료!A:O,15,0)","v":{"v":23005,"d":"23,005"}},{"v":10743335,"d":"10,743,335"}]
[60,"충남","부여군","김정숙","002170335158",840,547,117,6,63.48,93,"1++A",null,{"$f":"VLOOKUP(E107,[1]경매자료!A:O,15,0)","v":{"v":26369,"d":"26,369"}},{"v":14423843,"d":"14,423,843"}]
[61,"충남","부여군","백덕환","002176586753",747,438,103,9,63.38,83,"1++A",null,{"$f":"VLOOKUP(E108,[1]경매자료!A:O,15,0)","v":{"v":20969,"d":"20,969"}},{"v":9184422,"d":"9,184,422"}]
[198,"대전","서구","권남하","002176919282",929,550,123,10,62.84,91,"1++A",null,{"$f":"VLOOKUP(E109,[1]경매자료!A:O,15,0)","v":{"v":23988,"d":"23,988"}},{"v":13193400,"d":"13,193,400"}]
[108,"충남","서산시","오세광","002173808590",952,580,107,10,61.75,72,"1++B",null,{"$f":"VLOOKUP(E110,[1]경매자료!A:O,15,0)","v":{"v":19060,"d":"19,060"}},{"v":11054800,"d":"11,054,800"}]
[109,"충남","서산시","충남한우협동조합","002176271947",768,452,95,10,62.4,52,"1B",null,{"$f":"VLOOKUP(E111,[1]경매자료!A:O,15,0)","v":{"v":16999,"d":"16,999"}},{"v":7683548,"d":"7,683,548"}]
[259,"충남","서천군","신재호","002175505488",1119,687,131,14,61.23,93,"1++B",null,{"$f":"VLOOKUP(E112,[1]경매자료!A:O,15,0)","v":{"v":21265,"d":"21,265"}},{"v":14609055,"d":"14,609,055"}]
[262,"충남","서천군","이승덕","002175863479",1044,620,110,9,61.76,83,"1++B",null,{"$f":"VLOOKUP(E113,[1]경매자료!A:O,15,0)","v":{"v":18919,"d":"18,919"}},{"v":11729780,"d":"11,729,780"}]
[261,"충남","서천군","장건용","002169700863",827,497,107,12,62.07,92,"1++B",null,{"$f":"VLOOKUP(E114,[1]경매자료!A:O,15,0)","v":{"v":23558,"d":"23,558"}},{"v":11708326,"d":"11,708,326"}]
[260,"충남","예산군","김원균","002174848938",938,586,114,7,62.67,83,"1++A",null,{"$f":"VLOOKUP(E115,[1]경매자료!A:O,15,0)","v":{"v":19852,"d":"19,852"}},{"v":11633272,"d":"11,633,272"}]
[100,"충남","예산군","남상규","002178430692",959,544,107,14,61.15,91,"1++B",null,{"$f":"VLOOKUP(E116,[1]경매자료!A:O,15,0)","v":{"v":23912,"d":"23,912"}},{"v":13008128,"d":"13,008,128"}]
[224,"충남","천안시","곽태송","002174875271",917,569,112,25,58.79,93,"1++C",null,{"$f":"VLOOKUP(E117,[1]경매자료!A:O,15,0)","v":{"v":22342,"d":"22,342"}},{"v":12712598,"d":"12,712,598"}]
[222,"충남","천안시","유인상","002174862099",982,601,122,8,62.69,93,"1++A",null,{"$f":"VLOOKUP(E118,[1]경매자료!A:O,15,0)","v":{"v":26750,"d":"26,750"}},{"v":16076750,"d":"16,076,750"}]
[223,"충남","천안시","이영자","002176006683",852,521,113,16,61.19,92,"1++B",null,{"$f":"VLOOKUP(E119,[1]경매자료!A:O,15,0)","v":{"v":23759,"d":"23,759"}},{"v":12378439,"d":"12,378,439"}]
[221,"충남","천안시","최한수","002174870494",819,523,132,14,62.68,92,"1++A",null,{"$f":"VLOOKUP(E120,[1]경매자료!A:O,15,0)","v":{"v":25990,"d":"25,990"}},{"v":13592770,"d":"13,592,770"}]
[101,"충남","홍성군","김찬","002176731273",870,542,137,13,62.97,92,"1++A",null,{"$f":"VLOOKUP(E121,[1]경매자료!A:O,15,0)","v":{"v":26988,"d":"26,988"}},{"v":14627496,"d":"14,627,496"}]
[98,"충남","홍성군","노윤자","002176740049",952,575,103,13,60.94,91,"1++B",null,{"$f":"VLOOKUP(E122,[1]경매자료!A:O,15,0)","v":{"v":23855,"d":"23,855"}},{"v":13716625,"d":"13,716,625"}]
[97,"충남","홍성군","이용연","002173775234",827,508,116,5,64.18,91,"1++A",null,{"$f":"VLOOKUP(E123,[1]경매자료!A:O,15,0)","v":{"v":24899,"d":"24,899"}},{"v":12648692,"d":"12,648,692"}]
[99,"충남","홍성군","하상부","002177802169",865,545,113,11,62.15,93,"1++B",null,{"$f":"VLOOKUP(E124,[1]경매자료!A:O,15,0)","v":{"v":27666,"d":"27,666"}},{"v":15077970,"d":"15,077,970"}]
[22,"전북","군산시","김재환","002173199799",928,586,131,15,61.79,93,"1++B",null,{"$f":"VLOOKUP(E125,[1]경매자료!A:O,15,0)","v":{"v":23238,"d":"23,238"}},{"v":13617468,"d":"13,617,468"}]
[23,"전북","군산시","정윤섭","002173198247",850,506,116,10,62.98,62,"1+A",null,{"$f":"VLOOKUP(E126,[1]경매자료!A:O,15,0)","v":{"v":18434,"d":"18,434"}},{"v":9327604,"d":"9,327,604"}]
[24,"전북","군산시","최송규","002175598077",931,573,132,10,63.04,92,"1++A",null,{"$f":"VLOOKUP(E127,[1]경매자료!A:O,15,0)","v":{"v":27078,"d":"27,078"}},{"v":15515694,"d":"15,515,694"}]
[237,"전북","남원시","하태성","002174375415",894,553,95,18,59.56,62,"1+C",null,{"$f":"VLOOKUP(E128,[1]경매자료!A:O,15,0)","v":{"v":16366,"d":"16,366"}},{"v":9050398,"d":"9,050,398"}]
[53,"전북","무주군","이미자","002179894657",824,523,114,8,63.14,93,"1++A",null,{"$f":"VLOOKUP(E129,[1]경매자료!A:O,15,0)","v":{"v":25599,"d":"25,599"}},{"v":13388277,"d":"13,388,277"}]
[104,"전북","부안군","김광수","002177839084",873,531,112,10,62.47,93,"1++B",null,{"$f":"VLOOKUP(E130,[1]경매자료!A:O,15,0)","v":{"v":25012,"d":"25,012"}},{"v":13281372,"d":"13,281,372"}]
[9,"전북","익산시","서광명","002175594137",857,533,109,7,62.99,92,"1++A",null,{"$f":"VLOOKUP(E131,[1]경매자료!A:O,15,0)","v":{"v":24999,"d":"24,999"}},{"v":13324467,"d":"13,324,467"}]
[1,"전북","익산시","신승일","002173201813",736,484,98,11,61.95,93,"1++B",null,{"$f":"VLOOKUP(E132,[1]경매자료!A:O,15,0)","v":{"v":10012,"d":"10,012"}},{"$f":"G132*N132","v":{"v":4845808,"d":"4,845,808"}}]
[7,"전북","익산시","이존필","002175945641",754,455,117,12,63.18,91,"1++A",null,{"$f":"VLOOKUP(E133,[1]경매자료!A:O,15,0)","v":{"v":23615,"d":"23,615"}},{"v":10744825,"d":"10,744,825"}]
[8,"전북","익산시","이현수","002173599139",847,527,99,22,58.97,83,"1++C",null,{"$f":"VLOOKUP(E134,[1]경매자료!A:O,15,0)","v":{"v":18877,"d":"18,877"}},{"v":9948179,"d":"9,948,179"}]
[10,"전북","익산시","황인섭","002170529727",838,533,123,13,62.33,93,"1++B",null,{"$f":"VLOOKUP(E135,[1]경매자료!A:O,15,0)","v":{"v":25999,"d":"25,999"}},{"v":13857467,"d":"13,857,467"}]
[127,"전북","임실군","안혜숙","002174603649",1026,668,129,11,61.84,83,"1++B",null,{"$f":"VLOOKUP(E136,[1]경매자료!A:O,15,0)","v":{"v":20039,"d":"20,039"}},{"v":13386052,"d":"13,386,052"}]
[51,"전북","장수군","권용세","002174387429",977,615,142,14,62.26,93,"1++B",null,{"$f":"VLOOKUP(E137,[1]경매자료!A:O,15,0)","v":{"v":26630,"d":"26,630"}},{"v":16377450,"d":"16,377,450"}]
[52,"전북","장수군","장수한우지방공사","002178929905",895,539,135,14,62.66,93,"1++A",null,{"$f":"VLOOKUP(E138,[1]경매자료!A:O,15,0)","v":{"v":26163,"d":"26,163"}},{"v":14101857,"d":"14,101,857"}]
[50,"전북","장수군","장재영","002175462665",711,439,92,3,64.37,64,"1+A",null,{"$f":"VLOOKUP(E139,[1]경매자료!A:O,15,0)","v":{"v":17120,"d":"17,120"}},{"v":7515680,"d":"7,515,680"}]
[124,"전북","정읍시","김남임","002175518256",786,476,131,15,62.94,93,"1++A",null,{"$f":"VLOOKUP(E140,[1]경매자료!A:O,15,0)","v":{"v":28229,"d":"28,229"}},{"v":13437004,"d":"13,437,004"}]
[125,"전북","정읍시","박성훈","002174207252",1014,625,102,15,60.16,71,"1++C",null,{"$f":"VLOOKUP(E141,[1]경매자료!A:O,15,0)","v":{"v":17000,"d":"17,000"}},{"v":10625000,"d":"10,625,000"}]
[122,"전북","정읍시","배석한","002176930045",736,459,141,12,64.61,93,"1++A",null,{"$f":"VLOOKUP(E142,[1]경매자료!A:O,15,0)","v":{"v":31270,"d":"31,270"}},{"v":14352930,"d":"14,352,930"}]
[48,"전북","정읍시","유영훈","002177280476",787,506,94,23,58.53,62,"1+C",null,{"$f":"VLOOKUP(E143,[1]경매자료!A:O,15,0)","v":{"v":16958,"d":"16,958"}},{"v":8580748,"d":"8,580,748"}]
[121,"전북","정읍시","유종대","002167710899",797,483,128,20,61.38,93,"1++B",null,{"$f":"VLOOKUP(E144,[1]경매자료!A:O,15,0)","v":{"v":24918,"d":"24,918"}},{"v":12035394,"d":"12,035,394"}]
[126,"전북","정읍시","이강욱","002174208229",615,367,96,3,66.17,71,"1++A",null,{"$f":"VLOOKUP(E145,[1]경매자료!A:O,15,0)","v":{"v":19209,"d":"19,209"}},{"v":7049703,"d":"7,049,703"}]
[25,"전북","정읍시","이경연","002175518449",833,516,131,5,64.89,93,"1++A",null,{"$f":"VLOOKUP(E146,[1]경매자료!A:O,15,0)","v":{"v":28234,"d":"28,234"}},{"v":14568744,"d":"14,568,744"}]
[106,"전북","정읍시","정왕용","002174211499",892,528,119,8,63.35,91,"1++A",null,{"$f":"VLOOKUP(E147,[1]경매자료!A:O,15,0)","v":{"v":24899,"d":"24,899"}},{"v":13146672,"d":"13,146,672"}]
[105,"전북","정읍시","정태운","002167701890",1009,614,85,5,61.48,52,"1B",null,{"$f":"VLOOKUP(E148,[1]경매자료!A:O,15,0)","v":{"v":15050,"d":"15,050"}},{"v":9240700,"d":"9,240,700"}]
[102,"전북","정읍시","최규빈","002178371678",922,568,147,15,62.74,93,"1++A",null,{"$f":"VLOOKUP(E149,[1]경매자료!A:O,15,0)","v":{"v":33699,"d":"33,699"}},{"v":19141032,"d":"19,141,032"}]
[123,"전북","정읍시","최정숙","002178374252",903,562,128,17,61.4,93,"1++B",null,{"$f":"VLOOKUP(E150,[1]경매자료!A:O,15,0)","v":{"v":26918,"d":"26,918"}},{"v":15127916,"d":"15,127,916"}]
[103,"전북","정읍시","홍순경","002174204395",1024,674,117,14,60.73,71,"1++B",null,{"$f":"VLOOKUP(E151,[1]경매자료!A:O,15,0)","v":{"v":18259,"d":"18,259"}},{"v":12306566,"d":"12,306,566"}]
[54,"전북","진안군","성희수","002174383642",984,573,104,8,62.09,71,"1++B",null,{"$f":"VLOOKUP(E152,[1]경매자료!A:O,15,0)","v":{"v":18709,"d":"18,709"}},{"v":10720257,"d":"10,720,257"}]
[2,"전남","강진군","한명숙","002176152678",819,525,117,14,61.85,93,"1++B",null,{"$f":"VLOOKUP(E153,[1]경매자료!A:O,15,0)","v":{"v":25555,"d":"25,555"}},{"v":13416375,"d":"13,416,375"}]
[162,"전남","고흥군","고흥축협","002172602596",766,465,107,11,62.71,32,"2A",null,{"$f":"VLOOKUP(E154,[1]경매자료!A:O,15,0)","v":{"v":12409,"d":"12,409"}},{"v":5770185,"d":"5,770,185"}]
[163,"전남","고흥군","박명호","002175715397",854,525,115,13,61.98,63,"1+B",null,{"$f":"VLOOKUP(E155,[1]경매자료!A:O,15,0)","v":{"v":17999,"d":"17,999"}},{"v":9449475,"d":"9,449,475"}]
[160,"전남","고흥군","박미영","002179357417",877,574,150,20,61.74,93,"1++B",null,{"$f":"VLOOKUP(E156,[1]경매자료!A:O,15,0)","v":{"v":27899,"d":"27,899"}},{"v":16014026,"d":"16,014,026"}]
[165,"전남","고흥군","박태화","002175713258",986,625,154,15,62.51,93,"1++B",null,{"$f":"VLOOKUP(E157,[1]경매자료!A:O,15,0)","v":{"v":33145,"d":"33,145"}},{"v":20715625,"d":"20,715,625"}]
[164,"전남","고흥군","신영수","002178891874",765,461,111,10,63.27,43,"1A",null,{"$f":"VLOOKUP(E158,[1]경매자료!A:O,15,0)","v":{"v":16333,"d":"16,333"}},{"v":7529513,"d":"7,529,513"}]
[161,"전남","고흥군","장철운","002175711117",845,514,103,22,59.24,22,"2C",null,{"$f":"VLOOKUP(E159,[1]경매자료!A:O,15,0)","v":{"v":13099,"d":"13,099"}},{"v":6732886,"d":"6,732,886"}]
[62,"전남","곡성군","박희애","002173307431",826,532,125,10,63.15,93,"1++A",null,{"$f":"VLOOKUP(E160,[1]경매자료!A:O,15,0)","v":{"v":22789,"d":"22,789"}},{"v":12123748,"d":"12,123,748"}]
[43,"전남","나주시","정종안","002177872437",980,644,143,18,61.28,93,"1++B",null,{"$f":"VLOOKUP(E161,[1]경매자료!A:O,15,0)","v":{"v":27070,"d":"27,070"}},{"v":17433080,"d":"17,433,080"}]
[58,"전남","담양군","강대열","002173343308",851,525,100,21,59.27,83,"1++C",null,{"$f":"VLOOKUP(E162,[1]경매자료!A:O,15,0)","v":{"v":18699,"d":"18,699"}},{"v":9816975,"d":"9,816,975"}]
[59,"전남","담양군","윤창호","002175229138",937,585,114,10,62.04,71,"1++B",null,{"$f":"VLOOKUP(E163,[1]경매자료!A:O,15,0)","v":{"v":19152,"d":"19,152"}},{"v":11203920,"d":"11,203,920"}]
[74,"전남","무안군","김원길","002172204287",861,550,107,10,62.02,64,"1+B",null,{"$f":"VLOOKUP(E164,[1]경매자료!A:O,15,0)","v":{"v":17599,"d":"17,599"}},{"v":9679450,"d":"9,679,450"}]
[69,"전남","무안군","박성순","002171353029",909,564,120,19,60.54,93,"1++B",null,{"$f":"VLOOKUP(E165,[1]경매자료!A:O,15,0)","v":{"v":29350,"d":"29,350"}},{"v":16553400,"d":"16,553,400"}]
[21,"전남","무안군","박운일","002172205785",949,594,121,6,63.14,41,"1A",null,{"$f":"VLOOKUP(E166,[1]경매자료!A:O,15,0)","v":{"v":17780,"d":"17,780"}},{"v":10561320,"d":"10,561,320"}]
[20,"전남","무안군","서찬열","002171348737",971,602,138,10,63.02,93,"1++A",null,{"$f":"VLOOKUP(E167,[1]경매자료!A:O,15,0)","v":{"v":25332,"d":"25,332"}},{"v":15249864,"d":"15,249,864"}]
[73,"전남","무안군","손현균","002171340005",917,595,114,14,61.11,82,"1++B",null,{"$f":"VLOOKUP(E168,[1]경매자료!A:O,15,0)","v":{"v":19525,"d":"19,525"}},{"v":11617375,"d":"11,617,375"}]
[72,"전남","무안군","임종오","002176545128",804,522,126,10,63.33,93,"1++A",null,{"$f":"VLOOKUP(E169,[1]경매자료!A:O,15,0)","v":{"v":25556,"d":"25,556"}},{"v":13340232,"d":"13,340,232"}]
[70,"전남","무안군","장영준","002176543882",876,543,115,6,63.42,42,"1A",null,{"$f":"VLOOKUP(E170,[1]경매자료!A:O,15,0)","v":{"v":17786,"d":"17,786"}},{"v":9657798,"d":"9,657,798"}]
[49,"전남","무안군","최권주","002172052932",875,568,124,19,60.71,93,"1++B",null,{"$f":"VLOOKUP(E171,[1]경매자료!A:O,15,0)","v":{"v":27249,"d":"27,249"}},{"v":15477432,"d":"15,477,432"}]
[107,"전남","보성군","임병량","002169247087",965,598,134,14,62.04,91,"1++B",null,{"$f":"VLOOKUP(E172,[1]경매자료!A:O,15,0)","v":{"v":24333,"d":"24,333"}},{"v":14551134,"d":"14,551,134"}]
[71,"전남","신안군","윤성숙","002180999462",952,612,132,10,62.64,93,"1++A",null,{"$f":"VLOOKUP(E173,[1]경매자료!A:O,15,0)","v":{"v":28009,"d":"28,009"}},{"v":17141508,"d":"17,141,508"}]
[40,"전남","영암군","김대욱","002178759532",871,549,141,13,63.09,93,"1++A",null,{"$f":"VLOOKUP(E174,[1]경매자료!A:O,15,0)","v":{"v":31633,"d":"31,633"}},{"v":17366517,"d":"17,366,517"}]
[38,"전남","영암군","김성도","002175319666",957,594,122,12,61.92,82,"1++B",null,{"$f":"VLOOKUP(E175,[1]경매자료!A:O,15,0)","v":{"v":22360,"d":"22,360"}},{"v":13281840,"d":"13,281,840"}]
[41,"전남","영암군","김용복","002177989883",800,490,129,11,63.67,92,"1++A",null,{"$f":"VLOOKUP(E176,[1]경매자료!A:O,15,0)","v":{"v":23897,"d":"23,897"}},{"v":11709530,"d":"11,709,530"}]
[33,"전남","영암군","김용우","002176705147",866,527,118,8,63.31,91,"1++A",null,{"$f":"VLOOKUP(E177,[1]경매자료!A:O,15,0)","v":{"v":25000,"d":"25,000"}},{"v":13175000,"d":"13,175,000"}]
[36,"전남","영암군","김정자","002176969790",853,530,129,10,63.39,93,"1++A",null,{"$f":"VLOOKUP(E178,[1]경매자료!A:O,15,0)","v":{"v":26333,"d":"26,333"}},{"v":13956490,"d":"13,956,490"}]
[37,"전남","영암군","문미숙","002178754180",698,419,95,6,64.04,64,"1+A",null,{"$f":"VLOOKUP(E179,[1]경매자료!A:O,15,0)","v":{"v":18114,"d":"18,114"}},{"v":7589766,"d":"7,589,766"}]
[31,"전남","영암군","서승민","002174107714",989,611,153,11,63.42,93,"1++A",null,{"$f":"VLOOKUP(E180,[1]경매자료!A:O,15,0)","v":{"v":28932,"d":"28,932"}},{"v":17677452,"d":"17,677,452"}]
[35,"전남","영암군","서영봉","002176973690",819,519,105,12,61.74,62,"1+B",null,{"$f":"VLOOKUP(E181,[1]경매자료!A:O,15,0)","v":{"v":17817,"d":"17,817"}},{"v":9247023,"d":"9,247,023"}]
[45,"전남","영암군","신북한우영농조합법인(임정균)","002175319109",906,591,131,19,60.9,83,"1++B",null,{"$f":"VLOOKUP(E182,[1]경매자료!A:O,15,0)","v":{"v":21225,"d":"21,225"}},{"v":12543975,"d":"12,543,975"}]
[39,"전남","영암군","안상길","002176973761",765,455,103,5,64.24,72,"1++A",null,{"$f":"VLOOKUP(E183,[1]경매자료!A:O,15,0)","v":{"v":18999,"d":"18,999"}},{"v":8644545,"d":"8,644,545"}]
[44,"전남","영암군","이재성","002175318114",1026,646,147,11,62.8,82,"1++A",null,{"$f":"VLOOKUP(E184,[1]경매자료!A:O,15,0)","v":{"v":20599,"d":"20,599"}},{"v":13306954,"d":"13,306,954"}]
[32,"전남","영암군","이재우","002177990102",989,596,123,14,61.53,62,"1+B",null,{"$f":"VLOOKUP(E185,[1]경매자료!A:O,15,0)","v":{"v":18019,"d":"18,019"}},{"v":10739324,"d":"10,739,324"}]
[34,"전남","영암군","이재중","002180007484",759,481,98,10,62.24,72,"1++B",null,{"$f":"VLOOKUP(E186,[1]경매자료!A:O,15,0)","v":{"v":18699,"d":"18,699"}},{"v":8994219,"d":"8,994,219"}]
[64,"전남","함평군","김성진","002175137740",840,548,118,22,59.86,93,"1++C",null,{"$f":"VLOOKUP(E187,[1]경매자료!A:O,15,0)","v":{"v":25233,"d":"25,233"}},{"v":13827684,"d":"13,827,684"}]
[65,"전남","함평군","나형규","002175140831",912,593,132,22,60.3,93,"1++C",null,{"$f":"VLOOKUP(E188,[1]경매자료!A:O,15,0)","v":{"v":26830,"d":"26,830"}},{"v":15910190,"d":"15,910,190"}]
[63,"전남","함평군","신영철","002178086341",909,553,129,12,62.66,64,"1+A",null,{"$f":"VLOOKUP(E189,[1]경매자료!A:O,15,0)","v":{"v":18711,"d":"18,711"}},{"v":10347183,"d":"10,347,183"}]
[67,"전남","함평군","안성호","002176849047",863,550,120,15,61.55,83,"1++B",null,{"$f":"VLOOKUP(E190,[1]경매자료!A:O,15,0)","v":{"v":19074,"d":"19,074"}},{"v":10490700,"d":"10,490,700"}]
[47,"전남","함평군","윤연옥","002178090855",847,534,130,21,60.81,71,"1++B",null,{"$f":"VLOOKUP(E191,[1]경매자료!A:O,15,0)","v":{"v":18948,"d":"18,948"}},{"v":10118232,"d":"10,118,232"}]
[66,"전남","함평군","전갑석","002176844376",815,511,118,10,63.03,92,"1++A",null,{"$f":"VLOOKUP(E192,[1]경매자료!A:O,15,0)","v":{"v":24823,"d":"24,823"}},{"v":12684553,"d":"12,684,553"}]
[154,"전남","화순군","권기민","002174732924",830,498,110,12,62.23,65,"1+B",null,{"$f":"VLOOKUP(E193,[1]경매자료!A:O,15,0)","v":{"v":17699,"d":"17,699"}},{"v":8814102,"d":"8,814,102"}]
[157,"전남","화순군","김공순","002174732908",801,518,105,21,59.57,65,"1+C",null,{"$f":"VLOOKUP(E194,[1]경매자료!A:O,15,0)","v":{"v":16999,"d":"16,999"}},{"v":8805482,"d":"8,805,482"}]
[152,"전남","화순군","김성원","002176410453",741,431,108,11,63.24,93,"1++A",null,{"$f":"VLOOKUP(E195,[1]경매자료!A:O,15,0)","v":{"v":23988,"d":"23,988"}},{"v":10338828,"d":"10,338,828"}]
[156,"전남","화순군","김성철","002174732730",680,406,105,19,60.96,91,"1++B",null,{"$f":"VLOOKUP(E196,[1]경매자료!A:O,15,0)","v":{"v":23499,"d":"23,499"}},{"$f":"G196*N196","v":{"v":9540594,"d":"9,540,594"}}]
[158,"전남","화순군","김성환","002176410488",740,427,110,10,63.72,64,"1+A",null,{"$f":"VLOOKUP(E197,[1]경매자료!A:O,15,0)","v":{"v":18339,"d":"18,339"}},{"v":7830753,"d":"7,830,753"}]
[159,"전남","화순군","김정란","002173268819",821,505,112,8,63.26,71,"1++A",null,{"$f":"VLOOKUP(E198,[1]경매자료!A:O,15,0)","v":{"v":18599,"d":"18,599"}},{"v":9392495,"d":"9,392,495"}]
[155,"전남","화순군","박준희","002167233774",918,579,121,24,59.41,72,"1++C",null,{"$f":"VLOOKUP(E199,[1]경매자료!A:O,15,0)","v":{"v":17659,"d":"17,659"}},{"v":10224561,"d":"10,224,561"}]
[46,"전남","화순군","은백축산","002177513628",740,434,88,18,59.87,52,"1C",null,{"$f":"VLOOKUP(E200,[1]경매자료!A:O,15,0)","v":{"v":15859,"d":"15,859"}},{"v":6882806,"d":"6,882,806"}]
[153,"전남","화순군","최승미","002174732957",885,558,128,17,61.44,93,"1++B",null,{"$f":"VLOOKUP(E201,[1]경매자료!A:O,15,0)","v":{"v":27230,"d":"27,230"}},{"v":15194340,"d":"15,194,340"}]
[166,"경북","경산시","김영관","002175705741",989,598,128,11,62.38,92,"1++B",null,{"$f":"VLOOKUP(E202,[1]경매자료!A:O,15,0)","v":{"v":23999,"d":"23,999"}},{"v":14351402,"d":"14,351,402"}]
[56,"경북","경주시","김정근","002176451759",839,524,112,20,60.16,64,"1+C",null,{"$f":"VLOOKUP(E203,[1]경매자료!A:O,15,0)","v":{"v":17901,"d":"17,901"}},{"v":9380124,"d":"9,380,124"}]
[111,"경북","경주시","노병환","002176464971",913,572,118,16,61.05,93,"1++B",null,{"$f":"VLOOKUP(E204,[1]경매자료!A:O,15,0)","v":{"v":24003,"d":"24,003"}},{"v":13729716,"d":"13,729,716"}]
[29,"경북","경주시","신승욱","002177598250",846,537,110,9,62.53,91,"1++A",null,{"$f":"VLOOKUP(E205,[1]경매자료!A:O,15,0)","v":{"v":24500,"d":"24,500"}},{"v":13156500,"d":"13,156,500"}]
[112,"경북","경주시","이명호","002174796637",789,479,118,10,63.44,92,"1++A",null,{"$f":"VLOOKUP(E206,[1]경매자료!A:O,15,0)","v":{"v":23399,"d":"23,399"}},{"v":11208121,"d":"11,208,121"}]
[55,"경북","경주시","이승래","002174803559",757,467,102,15,61.31,91,"1++B",null,{"$f":"VLOOKUP(E207,[1]경매자료!A:O,15,0)","v":{"v":23333,"d":"23,333"}},{"v":10896511,"d":"10,896,511"}]
[28,"경북","경주시","전광식","002177603531",839,546,125,10,62.99,93,"1++A",null,{"$f":"VLOOKUP(E208,[1]경매자료!A:O,15,0)","v":{"v":27899,"d":"27,899"}},{"v":15232854,"d":"15,232,854"}]
[26,"경북","경주시","전상대(천년TMF영농조합법인)","002177603582",858,558,131,9,63.38,93,"1++A",null,{"$f":"VLOOKUP(E209,[1]경매자료!A:O,15,0)","v":{"v":24115,"d":"24,115"}},{"v":13456170,"d":"13,456,170"}]
[113,"경북","경주시","최삼호","002174810316",880,533,109,9,62.52,71,"1++A",null,{"$f":"VLOOKUP(E210,[1]경매자료!A:O,15,0)","v":{"v":19001,"d":"19,001"}},{"v":10127533,"d":"10,127,533"}]
[57,"경북","경주시","최진근","002176445591",837,527,124,12,62.68,93,"1++A",null,{"$f":"VLOOKUP(E211,[1]경매자료!A:O,15,0)","v":{"v":26855,"d":"26,855"}},{"v":14152585,"d":"14,152,585"}]
[30,"경북","경주시","최청해","002176451775",898,557,144,13,63.16,93,"1++A",null,{"$f":"VLOOKUP(E212,[1]경매자료!A:O,15,0)","v":{"v":25234,"d":"25,234"}},{"v":14055338,"d":"14,055,338"}]
[114,"경북","구미시","이정은","002176507348",771,480,96,13,61.35,61,"1+B",null,{"$f":"VLOOKUP(E213,[1]경매자료!A:O,15,0)","v":{"v":17659,"d":"17,659"}},{"v":8476320,"d":"8,476,320"}]
[258,"경북","문경시","권영섭","002174409723",808,475,115,4,64.9,65,"1+A",null,{"$f":"VLOOKUP(E214,[1]경매자료!A:O,15,0)","v":{"v":18519,"d":"18,519"}},{"v":8796525,"d":"8,796,525"}]
[207,"경북","봉화군","박기석","002174534385",931,576,108,12,61.39,81,"1++B",null,{"$f":"VLOOKUP(E215,[1]경매자료!A:O,15,0)","v":{"v":19000,"d":"19,000"}},{"v":10944000,"d":"10,944,000"}]
[229,"경북","상주시","김길홍","002172497500",888,539,114,8,62.96,93,"1++A",null,{"$f":"VLOOKUP(E216,[1]경매자료!A:O,15,0)","v":{"v":24243,"d":"24,243"}},{"v":13066977,"d":"13,066,977"}]
[231,"경북","상주시","김상수","002173797225",934,585,117,16,60.9,93,"1++B",null,{"$f":"VLOOKUP(E217,[1]경매자료!A:O,15,0)","v":{"v":27270,"d":"27,270"}},{"v":15952950,"d":"15,952,950"}]
[230,"경북","상주시","김정기","002174455520",865,531,130,13,62.72,92,"1++A",null,{"$f":"VLOOKUP(E218,[1]경매자료!A:O,15,0)","v":{"v":23333,"d":"23,333"}},{"v":12389823,"d":"12,389,823"}]
[250,"경북","영주시","권대기","002173399615",832,503,86,15,60.08,61,"1+C",null,{"$f":"VLOOKUP(E219,[1]경매자료!A:O,15,0)","v":{"v":16709,"d":"16,709"}},{"v":8404627,"d":"8,404,627"}]
[249,"경북","영주시","송무찬","002173862155",833,485,93,11,61.64,83,"1++B",null,{"$f":"VLOOKUP(E220,[1]경매자료!A:O,15,0)","v":{"v":20199,"d":"20,199"}},{"v":9796515,"d":"9,796,515"}]
[251,"경북","영주시","오삼규","002172101474",752,459,88,6,62.97,92,"1++A",null,{"$f":"VLOOKUP(E221,[1]경매자료!A:O,15,0)","v":{"v":23099,"d":"23,099"}},{"v":10602441,"d":"10,602,441"}]
[77,"경북","예천군","안성호2","002175570292",966,608,133,15,61.7,93,"1++B",null,{"$f":"VLOOKUP(E222,[1]경매자료!A:O,15,0)","v":{"v":27999,"d":"27,999"}},{"v":17023392,"d":"17,023,392"}]
[76,"경북","예천군","이성우","002176984434",843,503,124,10,63.46,65,"1+A",null,{"$f":"VLOOKUP(E223,[1]경매자료!A:O,15,0)","v":{"v":18609,"d":"18,609"}},{"v":9360327,"d":"9,360,327"}]
[75,"경북","예천군","이영순","002177723311",968,611,111,10,61.68,83,"1++B",null,{"$f":"VLOOKUP(E224,[1]경매자료!A:O,15,0)","v":{"v":18999,"d":"18,999"}},{"v":11608389,"d":"11,608,389"}]
[110,"경북","청도군","심경자","002176369859",820,518,112,15,61.41,93,"1++B",null,{"$f":"VLOOKUP(E225,[1]경매자료!A:O,15,0)","v":{"v":23333,"d":"23,333"}},{"v":12086494,"d":"12,086,494"}]
[93,"경북","포항시","김미경","002174182819",861,533,98,16,60.3,81,"1++C",null,{"$f":"VLOOKUP(E226,[1]경매자료!A:O,15,0)","v":{"v":18820,"d":"18,820"}},{"v":10031060,"d":"10,031,060"}]
[94,"경북","포항시","김영석2","002177494880",866,532,127,10,63.26,92,"1++A",null,{"$f":"VLOOKUP(E227,[1]경매자료!A:O,15,0)","v":{"v":24999,"d":"24,999"}},{"v":13299468,"d":"13,299,468"}]
[96,"경북","포항시","신동석","002174186381",868,559,124,14,61.9,93,"1++B",null,{"$f":"VLOOKUP(E228,[1]경매자료!A:O,15,0)","v":{"v":25350,"d":"25,350"}},{"v":14170650,"d":"14,170,650"}]
[95,"경북","포항시","임승균","002177490886",879,542,115,16,61.13,93,"1++B",null,{"$f":"VLOOKUP(E229,[1]경매자료!A:O,15,0)","v":{"v":24479,"d":"24,479"}},{"v":13267618,"d":"13,267,618"}]
[91,"경남","거창군","김영준","002175704675",903,572,126,19,60.79,93,"1++B",null,{"$f":"VLOOKUP(E230,[1]경매자료!A:O,15,0)","v":{"v":26912,"d":"26,912"}},{"v":15393664,"d":"15,393,664"}]
[92,"경남","거창군","임영일","002175701988",925,559,135,6,64.24,72,"1++A",null,{"$f":"VLOOKUP(E231,[1]경매자료!A:O,15,0)","v":{"v":19399,"d":"19,399"}},{"v":10844041,"d":"10,844,041"}]
[86,"경남","김해시","노종호","002173753732",873,534,106,19,60.01,92,"1++C",null,{"$f":"VLOOKUP(E232,[1]경매자료!A:O,15,0)","v":{"v":22029,"d":"22,029"}},{"v":11763486,"d":"11,763,486"}]
[85,"경남","김해시","문기태","002174036071",850,522,110,9,62.7,93,"1++A",null,{"$f":"VLOOKUP(E233,[1]경매자료!A:O,15,0)","v":{"v":26788,"d":"26,788"}},{"v":13983336,"d":"13,983,336"}]
[84,"경남","김해시","문서현","002174036565",932,568,127,9,63.07,91,"1++A",null,{"$f":"VLOOKUP(E234,[1]경매자료!A:O,15,0)","v":{"v":24443,"d":"24,443"}},{"v":13883624,"d":"13,883,624"}]
[87,"경남","김해시","박병복","002177177986",833,514,116,13,62.15,91,"1++B",null,{"$f":"VLOOKUP(E235,[1]경매자료!A:O,15,0)","v":{"v":21949,"d":"21,949"}},{"v":11281786,"d":"11,281,786"}]
[13,"경남","김해시","손지명","002172487389",774,491,111,9,63.13,92,"1++A",null,{"$f":"VLOOKUP(E236,[1]경매자료!A:O,15,0)","v":{"v":26099,"d":"26,099"}},{"v":12814609,"d":"12,814,609"}]
[14,"경남","김해시","이병희","002172490384",802,474,96,12,61.67,93,"1++B",null,{"$f":"VLOOKUP(E237,[1]경매자료!A:O,15,0)","v":{"v":24409,"d":"24,409"}},{"v":11569866,"d":"11,569,866"}]
[89,"경남","김해시","장용호","002173332741",743,473,116,13,62.61,93,"1++A",null,{"$f":"VLOOKUP(E238,[1]경매자료!A:O,15,0)","v":{"v":27439,"d":"27,439"}},{"v":12978647,"d":"12,978,647"}]
[192,"경남","밀양시","박이경","002172836527",865,515,119,11,62.79,91,"1++A",null,{"$f":"VLOOKUP(E239,[1]경매자료!A:O,15,0)","v":{"v":24877,"d":"24,877"}},{"v":12811655,"d":"12,811,655"}]
[176,"경남","산청군","정영진","002176113135",916,588,109,10,61.77,64,"1+B",null,{"$f":"VLOOKUP(E240,[1]경매자료!A:O,15,0)","v":{"v":17336,"d":"17,336"}},{"v":10193568,"d":"10,193,568"}]
[12,"경남","창녕군","김상우","002175601233",887,562,106,16,60.52,81,"1++B",null,{"$f":"VLOOKUP(E241,[1]경매자료!A:O,15,0)","v":{"v":18399,"d":"18,399"}},{"v":10340238,"d":"10,340,238"}]
[11,"경남","창녕군","임상열","002176777653",807,495,99,14,61.13,63,"1+B",null,{"$f":"VLOOKUP(E242,[1]경매자료!A:O,15,0)","v":{"v":17706,"d":"17,706"}},{"v":8764470,"d":"8,764,470"}]
[201,"경남","하동군","김말숙","002173252209",908,548,119,12,62.2,83,"1++B",null,{"$f":"VLOOKUP(E243,[1]경매자료!A:O,15,0)","v":{"v":18799,"d":"18,799"}},{"v":10301852,"d":"10,301,852"}]
[202,"경남","하동군","김용대","002173964611",888,549,152,11,64.12,92,"1++A",null,{"$f":"VLOOKUP(E244,[1]경매자료!A:O,15,0)","v":{"v":26599,"d":"26,599"}},{"v":14602851,"d":"14,602,851"}]
[203,"경남","하동군","서원길","002173965817",800,487,112,10,62.98,91,"1++A",null,{"$f":"VLOOKUP(E245,[1]경매자료!A:O,15,0)","v":{"v":23029,"d":"23,029"}},{"v":11215123,"d":"11,215,123"}]
[204,"경남","하동군","양경민","002176801704",728,430,103,10,63.22,72,"1++A",null,{"$f":"VLOOKUP(E246,[1]경매자료!A:O,15,0)","v":{"v":19123,"d":"19,123"}},{"v":8222890,"d":"8,222,890"}]
[15,"경남","함안군","안삼진","002176815662",949,576,116,11,62,93,"1++B",null,{"$f":"VLOOKUP(E247,[1]경매자료!A:O,15,0)","v":{"v":23927,"d":"23,927"}},{"v":13781952,"d":"13,781,952"}]
[115,"경남","함양군","김역곤","002176832324",700,435,109,3,65.55,93,"1++A",null,{"$f":"VLOOKUP(E248,[1]경매자료!A:O,15,0)","v":{"v":25233,"d":"25,233"}},{"v":10976355,"d":"10,976,355"}]
[117,"경남","함양군","노희철","002176830038",890,542,110,10,62.25,82,"1++B",null,{"$f":"VLOOKUP(E249,[1]경매자료!A:O,15,0)","v":{"v":19615,"d":"19,615"}},{"v":10631330,"d":"10,631,330"}]
[120,"경남","함양군","박종락","002176830191",831,492,114,12,62.53,91,"1++A",null,{"$f":"VLOOKUP(E250,[1]경매자료!A:O,15,0)","v":{"v":24066,"d":"24,066"}},{"v":11840472,"d":"11,840,472"}]
[116,"경남","함양군","이충희","002178074253",960,593,124,11,62.24,63,"1+B",null,{"$f":"VLOOKUP(E251,[1]경매자료!A:O,15,0)","v":{"v":17832,"d":"17,832"}},{"v":10574376,"d":"10,574,376"}]
[119,"경남","함양군","정무섭","002174900246",887,563,116,20,60.12,93,"1++C",null,{"$f":"VLOOKUP(E252,[1]경매자료!A:O,15,0)","v":{"v":24159,"d":"24,159"}},{"v":13601517,"d":"13,601,517"}]
[118,"경남","함양군","정현철","002176833905",854,533,121,11,62.69,93,"1++A",null,{"$f":"VLOOKUP(E253,[1]경매자료!A:O,15,0)","v":{"v":26333,"d":"26,333"}},{"v":14035489,"d":"14,035,489"}]
[136,"경남","합천군","백세영","002174199640",903,576,147,16,62.44,93,"1++B",null,{"$f":"VLOOKUP(E254,[1]경매자료!A:O,15,0)","v":{"v":26000,"d":"26,000"}},{"v":14976000,"d":"14,976,000"}]
[135,"경남","합천군","이영목","002174195288",939,551,122,8,63.23,63,"1+A",null,{"$f":"VLOOKUP(E255,[1]경매자료!A:O,15,0)","v":{"v":18555,"d":"18,555"}},{"v":10223805,"d":"10,223,805"}]
[134,"경남","합천군","정선영","002177797504",922,545,113,11,62.15,52,"1B",null,{"$f":"VLOOKUP(E256,[1]경매자료!A:O,15,0)","v":{"v":17000,"d":"17,000"}},{"v":9265000,"d":"9,265,000"}]
[137,"경남","합천군","지옥조","002175647873",755,456,116,11,63.38,92,"1++A",null,{"$f":"VLOOKUP(E257,[1]경매자료!A:O,15,0)","v":{"v":25825,"d":"25,825"}},{"v":11776200,"d":"11,776,200"}]
[83,"울산","울주군","김수경","002171408373",810,507,100,16,60.59,93,"1++B",null,{"$f":"VLOOKUP(E258,[1]경매자료!A:O,15,0)","v":{"v":23999,"d":"23,999"}},{"v":12167493,"d":"12,167,493"}]
[82,"울산","울주군","김태호","002174552936",1081,665,118,10,61.58,64,"1+B",null,{"$f":"VLOOKUP(E259,[1]경매자료!A:O,15,0)","v":{"v":17315,"d":"17,315"}},{"v":11514475,"d":"11,514,475"}]
[177,"울산","울주군","윤순주","002174547349",843,514,108,9,62.68,91,"1++A",null,{"$f":"VLOOKUP(E260,[1]경매자료!A:O,15,0)","v":{"v":23978,"d":"23,978"}},{"$f":"G260*N260","v":{"v":12324692,"d":"12,324,692"}}]
[81,"울산","울주군","윤현관","002174552872",924,558,123,7,63.43,81,"1++A",null,{"$f":"VLOOKUP(E261,[1]경매자료!A:O,15,0)","v":{"v":20330,"d":"20,330"}},{"v":11344140,"d":"11,344,140"}]
[178,"울산","울주군","이종호","002177347166",876,538,118,8,63.18,93,"1++A",null,{"$f":"VLOOKUP(E262,[1]경매자료!A:O,15,0)","v":{"v":24387,"d":"24,387"}},{"v":13120206,"d":"13,120,206"}]
[179,"울산","울주군","황태섭","002174561888",889,530,116,10,62.69,83,"1++A",null,{"$f":"VLOOKUP(E263,[1]경매자료!A:O,15,0)","v":{"v":19899,"d":"19,899"}},{"v":10546470,"d":"10,546,470"}]
[182,"제주","서귀포시","김계삼","002173800479",848,541,132,6,64.34,83,"1++A",null,{"$f":"VLOOKUP(E264,[1]경매자료!A:O,15,0)","v":{"v":20899,"d":"20,899"}},{"v":11306359,"d":"11,306,359"}]
[181,"제주","서귀포시","김성신","002173800495",811,498,100,14,61.16,72,"1++B",null,{"$f":"VLOOKUP(E265,[1]경매자료!A:O,15,0)","v":{"v":18393,"d":"18,393"}},{"v":9159714,"d":"9,159,714"}]
[183,"제주","서귀포시","정현원","002169981733",762,476,102,8,63.06,91,"1++A",null,{"$f":"VLOOKUP(E266,[1]경매자료!A:O,15,0)","v":{"v":22899,"d":"22,899"}},{"v":10899924,"d":"10,899,924"}]
[184,"제주","서귀포시","정현태","002169981717",781,496,129,10,63.84,93,"1++A",null,{"$f":"VLOOKUP(E267,[1]경매자료!A:O,15,0)","v":{"v":25801,"d":"25,801"}},{"v":12797296,"d":"12,797,296"}]